BEGIN:VCALENDAR
VERSION:2.0
PRODID:-//ChamberMaster//Event Calendar 2.0//EN
METHOD:PUBLISH
X-PUBLISHED-TTL:P3D
REFRESH-INTERVAL:P3D
CALSCALE:GREGORIAN
BEGIN:VEVENT
DTSTART:20191214T150000Z
DTEND:20191215T000000Z
X-MICROSOFT-CDO-ALLDAYEVENT:FALSE
SUMMARY:Stocking Stuffer Saturday Sale!
DESCRIPTION:Stocking Stuffer Saturday - December 14th\n\n9 -11 AM & 4 - 6 PM\n\n20% Off Any Purchase\n\n11 AM - 4 PM\n\n15% Off Any Food Purchase\n\n25% Off Any Treat\, Toy\, Leash\, Collar\, Bone or Rug purchase \n\n      30% Off Any Coat\, Sweater\, Boots or Bed Purchase\n\n(Can combine these discounts during this time*) \n\nReceive a free food sample with any purchase!  \n\n*To receive specific discount\, purchase must be made during the appropriate sales time listed above. No coupons needed. One Discount Applies Per Transaction - May Combine Discounts listed above during specific times. Can not be combined with other coupons. Discounts Only Valid 12/14/2019. May Not Be Combined With Other Offers. Valid Only At Canine Crossing. Consumers pay all sales tax. No Cash Value.
X-ALT-DESC;FMTTYPE=text/html:<p style="text-align:center"><span style="color:rgb(139\, 0\, 0)">Stocking Stuffer Saturday -&nbsp\;</span><span style="color:rgb(139\, 0\, 0)">December 14th</span></p>\n\n<p style="text-align:center"><strong><span style="color:rgb(139\, 0\, 0)">9 -11&nbsp\;AM&nbsp\;&amp\; 4 - 6&nbsp\;PM</span></strong></p>\n\n<p style="text-align:center"><span style="color:rgb(139\, 0\, 0)">20% Off Any Purchase</span></p>\n\n<p style="text-align:center"><strong><span style="color:rgb(139\, 0\, 0)">11 AM - 4 PM</span></strong></p>\n\n<p style="text-align:center"><span style="color:rgb(139\, 0\, 0)">15% Off Any Food Purchase</span></p>\n\n<p style="text-align:center"><span style="color:rgb(139\, 0\, 0)">25% Off Any Treat\, Toy\, Leash\, Collar\, Bone or Rug purchase&nbsp\;</span></p>\n\n<p style="text-align:center"><span style="color:rgb(139\, 0\, 0)">&nbsp\; &nbsp\; &nbsp\; 30% Off Any Coat\, Sweater\, Boots or Bed Purchase</span></p>\n\n<p style="text-align:center"><span style="color:rgb(139\, 0\, 0)">(Can combine these discounts during this time*)&nbsp\;</span></p>\n\n<p style="text-align:center"><span style="color:rgb(139\, 0\, 0)">Receive a free food sample with any purchase!&nbsp\;&nbsp\;</span></p>\n\n<p style="text-align:center"><span style="color:rgb(139\, 0\, 0)">*To receive specific discount\, purchase must be made during the appropriate sales time listed above. No coupons needed.&nbsp\;One Discount Applies Per Transaction - May Combine Discounts listed above during specific times. Can not be combined with other coupons. Discounts Only Valid 12/14/2019. May Not Be Combined With Other Offers. Valid Only At Canine Crossing. Consumers pay&nbsp\;all sales tax. No Cash Value.&nbsp\;</span></p>\n
LOCATION:Canine Crossing 1574 154TH AVE NW Andover\, MN 55304
UID:e.380.191759
SEQUENCE:3
DTSTAMP:20260419T142528Z
URL:http://members.metronorthchamber.org/events/details/stocking-stuffer-saturday-sale-191759
END:VEVENT

END:VCALENDAR
