BEGIN:VCALENDAR
VERSION:2.0
PRODID:-//ChamberMaster//Event Calendar 2.0//EN
METHOD:PUBLISH
X-PUBLISHED-TTL:P3D
REFRESH-INTERVAL:P3D
CALSCALE:GREGORIAN
BEGIN:VEVENT
DTSTART:20150519T211500Z
DTEND:20150519T220000Z
X-MICROSOFT-CDO-ALLDAYEVENT:FALSE
SUMMARY:Stepping Stone Ribbon Cutting
DESCRIPTION:Help us celebrate Stepping Stone Emergency Housing Ribbon Cutting on Tuesday May 19\, at 4:15 p.m. We will be cutting the ribbon at 4:30pm
X-ALT-DESC;FMTTYPE=text/html:Help us celebrate Stepping Stone Emergency Housing Ribbon Cutting on Tuesday May 19\, at 4:15&nbsp\;p.m. We will be cutting the ribbon at 4:30pm
LOCATION:Stepping Stone Emergency Housing 3300 4th Avenue North Cronin Building #14 Anoka\, MN 55303
UID:e.380.157278
SEQUENCE:3
DTSTAMP:20260423T095248Z
URL:http://members.metronorthchamber.org/events/details/stepping-stone-ribbon-cutting-05-19-2015-157278
END:VEVENT

END:VCALENDAR
