BEGIN:VCALENDAR
VERSION:2.0
PRODID:-//ChamberMaster//Event Calendar 2.0//EN
METHOD:PUBLISH
X-PUBLISHED-TTL:P3D
REFRESH-INTERVAL:P3D
CALSCALE:GREGORIAN
BEGIN:VEVENT
DTSTART:20161116T230000Z
DTEND:20161117T020000Z
X-MICROSOFT-CDO-ALLDAYEVENT:FALSE
SUMMARY:Stepping Stone Emergency Housing Fundraiser
DESCRIPTION:A fundraiser for Stepping Stone Emergency Housing takes place during National Hunger and Homelessness Awareness Week to highlight needs in our community. \n\n\n\nJoin Yrazema Garcia of Chema Malu and Amy Weber-DeRaad\, Independent Mary Kay Beauty Consultant as they host this "after hours" shopping event. A portion of the evening's proceeds and orders will be donated to Stepping Stone to assist with their vital efforts! \n\n\n\nDesserts provided by Truffles & Tortes.
X-ALT-DESC;FMTTYPE=text/html:A fundraiser for Stepping Stone Emergency Housing takes place during National Hunger and Homelessness Awareness Week to highlight needs in our community.&nbsp\;<br />\n<br />\nJoin Yrazema Garcia of Chema Malu and Amy Weber-DeRaad\, Independent Mary Kay Beauty Consultant as they host this &quot\;after hours&quot\; shopping event. A portion of the evening&#39\;s proceeds and orders will be donated to Stepping Stone to assist with their vital efforts!&nbsp\;<br />\n<br />\nDesserts provided by Truffles &amp\; Tortes.&nbsp\;
LOCATION:Chema Malu 208 East Main Street Downtown Anoka
UID:e.380.169855
SEQUENCE:3
DTSTAMP:20260422T014640Z
URL:http://members.metronorthchamber.org/events/details/stepping-stone-emergency-housing-fundraiser-169855
END:VEVENT

END:VCALENDAR
