BEGIN:VCALENDAR
VERSION:2.0
PRODID:-//ChamberMaster//Event Calendar 2.0//EN
METHOD:PUBLISH
X-PUBLISHED-TTL:P3D
REFRESH-INTERVAL:P3D
CALSCALE:GREGORIAN
BEGIN:VEVENT
DTSTART;VALUE=DATE:20141023
DTEND;VALUE=DATE:20141026
TRANSP:TRANSPARENT
X-MICROSOFT-CDO-ALLDAYEVENT:TRUE
SUMMARY:Statewide Tour of Manufacturing
DESCRIPTION:From October 23-25\, 2014\, manufacturers across the state will open their doors for the Statewide Tour of Manufacturing. Tour groups will have the chance to:  \n\n     See STEM concepts in action\n\n     Learn about high-tech machinery\, like robots\n\n     Get a hands-on look at how things we use every day are made\n\n     Learn about growing and well-paid career opportunities in their backyard\n\n\n\nMark your calendar for October 23-25. As manufacturers sign up to host tours\, they will be listed at tourofmanufacturingmn.com.
X-ALT-DESC;FMTTYPE=text/html:<br />\nFrom October 23-25\, 2014\, manufacturers across the state will open their doors for the Statewide Tour of Manufacturing. Tour groups will have the chance to: &nbsp\;<br />\n&bull\;&nbsp\;&nbsp\; &nbsp\;See STEM concepts in action<br />\n&bull\;&nbsp\;&nbsp\; &nbsp\;Learn about high-tech machinery\, like robots<br />\n&bull\;&nbsp\;&nbsp\; &nbsp\;Get a hands-on look at how things we use every day are made<br />\n&bull\;&nbsp\;&nbsp\; &nbsp\;Learn about growing and well-paid career opportunities in their backyard<br />\n<br />\nMark your calendar for October 23-25. As manufacturers sign up to host tours\, they will be listed at <u><a href="http://tourofmanufacturingmn.com"><span style="color:#0000FF\;">tourofmanufacturingmn.com</span></a></u>.<br />\n&nbsp\;
LOCATION:
UID:e.380.151369
SEQUENCE:3
DTSTAMP:20260423T192521Z
URL:http://members.metronorthchamber.org/events/details/statewide-tour-of-manufacturing-10-23-2014-151369
END:VEVENT

END:VCALENDAR
