BEGIN:VCALENDAR
VERSION:2.0
PRODID:-//ChamberMaster//Event Calendar 2.0//EN
METHOD:PUBLISH
X-PUBLISHED-TTL:P3D
REFRESH-INTERVAL:P3D
CALSCALE:GREGORIAN
BEGIN:VEVENT
DTSTART:20131112T140000Z
DTEND:20131112T150000Z
X-MICROSOFT-CDO-ALLDAYEVENT:FALSE
SUMMARY:Statewide Policy Tour
DESCRIPTION:Statewide Policy Tour: Advance your 2014 priorities   and build powerful connections\n\n\n\nThe MetroNorth Chamber of Commerce in conjunction with the Minnesota Chamber of Commerce\, remains committed to setting Minnesota on a path to economic prosperity for all Minnesotans.\n\n\n\nThe 2014 Legislature looms more important than ever for our region and the statewide business community\, given the current environment at the Capitol. This is your opportunity to tell us what's on your minds and let us know if our initiatives are on the right track.\n\n\n\nStick around for networking and go on a facility tour following the meeting. Connect with your peers\, and broaden your understanding of the companies behind Minnesota's economic engine. Please join us as we set our sights on the 2014 Legislature. We'll make it worth your while.
X-ALT-DESC;FMTTYPE=text/html:<span style="font-size:12px\;"><span style="font-family: tahoma\;">Statewide Policy Tour: Advance your 2014 priorities &hellip\; and build powerful connections<br />\n<br />\nThe MetroNorth Chamber of Commerce in conjunction with the Minnesota Chamber of Commerce\, remains committed to setting Minnesota on a path to economic prosperity for all Minnesotans.<br />\n<br />\nThe 2014 Legislature looms more important than ever for our region and the statewide business community\, given the current environment at the Capitol. This is your opportunity to tell us what&rsquo\;s on your minds and let us know if our initiatives are on the right track.<br />\n<br />\nStick around for networking and go on a facility tour following the meeting. Connect with your peers\, and broaden your understanding of the companies behind Minnesota&rsquo\;s economic engine. Please join us as we set our sights on the 2014 Legislature. We&rsquo\;ll make it worth your while.</span></span><br />\n<br />\n
LOCATION:Parsons Electric 5960 Main Street NE Fridley\, MN 55432
UID:e.380.149704
SEQUENCE:3
DTSTAMP:20260424T124536Z
URL:http://members.metronorthchamber.org/events/details/statewide-policy-tour-11-12-2013-149704
END:VEVENT

END:VCALENDAR
