BEGIN:VCALENDAR
VERSION:2.0
PRODID:-//ChamberMaster//Event Calendar 2.0//EN
METHOD:PUBLISH
X-PUBLISHED-TTL:P3D
REFRESH-INTERVAL:P3D
CALSCALE:GREGORIAN
BEGIN:VEVENT
DTSTART;VALUE=DATE:20140317
DTEND;VALUE=DATE:20140318
TRANSP:TRANSPARENT
X-MICROSOFT-CDO-ALLDAYEVENT:TRUE
SUMMARY:St. Patrick's Day at Eichtens
DESCRIPTION:Come and celebrate St. Patricks Day at Eichtens with our Irish Chef Kathy.\n\n\n\nBreakfast (8 - 4 pm):  Corned Beef Hash Special\n\n\n\nLunch  (11 am - 4 pm):  Corned Beef and Cabbage & Kathy's Famous Ruebens\n\n\n\nDinner (5 pm - 8 pm):  Corned Beef and Cabbage Dinner served with Boiled Finn Potatoes\, Seasonal Vegetables and Bisquit.\n\n\n\nAll Day - Minnesota's Famous Finnegans Irish Potato Beer Special
X-ALT-DESC;FMTTYPE=text/html:<span style="background-color:lime\;">Come and celebrate St. Patricks Day at Eichtens with our Irish Chef Kathy.</span><br />\n<br />\n<strong>Breakfast (8 - 4 pm):&nbsp\;</strong>&nbsp\;Corned Beef Hash Special<br />\n<br />\n<strong>Lunch &nbsp\;(11 am - 4 pm):&nbsp\;</strong>&nbsp\;Corned Beef and Cabbage &amp\; Kathy&#39\;s Famous Ruebens<br />\n<br />\n<strong>Dinner (5 pm - 8 pm):</strong> &nbsp\;Corned Beef and Cabbage Dinner served with Boiled Finn Potatoes\, Seasonal Vegetables and Bisquit.<br />\n<br />\n<strong>All Day - Minnesota&#39\;s Famous Finnegans Irish Potato Beer Special</strong><br />\n<br />\n&nbsp\;
LOCATION:Eichtens Market & Cafe 16440 Lake Blvd Center City\, MN 55012 651-257-1566
UID:e.380.150480
SEQUENCE:3
DTSTAMP:20260424T061837Z
URL:http://members.metronorthchamber.org/events/details/st-patrick-s-day-at-eichtens-03-17-2014-150480
END:VEVENT

END:VCALENDAR
