BEGIN:VCALENDAR
VERSION:2.0
PRODID:-//ChamberMaster//Event Calendar 2.0//EN
METHOD:PUBLISH
X-PUBLISHED-TTL:P3D
REFRESH-INTERVAL:P3D
CALSCALE:GREGORIAN
BEGIN:VEVENT
DTSTART:20190315T210000Z
DTEND:20190318T030000Z
X-MICROSOFT-CDO-ALLDAYEVENT:FALSE
SUMMARY:St.Patrick's Day
DESCRIPTION:
X-ALT-DESC;FMTTYPE=text/html:
LOCATION:Majestic Oaks Restaurant 701 Bunker Lake Blvd NE Ham Lake MN
UID:e.380.188578
SEQUENCE:3
DTSTAMP:20260420T072628Z
URL:http://members.metronorthchamber.org/events/details/st-patrick-s-day-188578
END:VEVENT

END:VCALENDAR
