BEGIN:VCALENDAR
VERSION:2.0
PRODID:-//ChamberMaster//Event Calendar 2.0//EN
METHOD:PUBLISH
X-PUBLISHED-TTL:P3D
REFRESH-INTERVAL:P3D
CALSCALE:GREGORIAN
BEGIN:VEVENT
DTSTART:20150414T210000Z
DTEND:20150414T230000Z
X-MICROSOFT-CDO-ALLDAYEVENT:FALSE
SUMMARY:Spring Sports Showcase
DESCRIPTION:Come see the latest and greatest in recognition and promotional items for baseball\, softball\, soccer\, tennis\, and dance! We will have awards on display and recognition specialists on hand. Food and refreshments are provided and all attendees receive a free gift bag and a 20% off coupon.
X-ALT-DESC;FMTTYPE=text/html:Come see the latest and greatest in recognition and promotional items for baseball\, softball\, soccer\, tennis\, and dance! We will have awards on display and recognition specialists on hand. Food and refreshments are provided and all attendees receive a free gift bag and a 20% off coupon.
LOCATION:Viking Trophies Showroom 6248 Lakeland Avenue North\, Suite 102 Brooklyn Park
UID:e.380.157247
SEQUENCE:3
DTSTAMP:20260423T100121Z
URL:http://members.metronorthchamber.org/events/details/spring-sports-showcase-04-14-2015-157247
END:VEVENT

END:VCALENDAR
