BEGIN:VCALENDAR
VERSION:2.0
PRODID:-//ChamberMaster//Event Calendar 2.0//EN
METHOD:PUBLISH
X-PUBLISHED-TTL:P3D
REFRESH-INTERVAL:P3D
CALSCALE:GREGORIAN
BEGIN:VEVENT
DTSTART:20130427T130000Z
DTEND:20130428T230000Z
X-MICROSOFT-CDO-ALLDAYEVENT:FALSE
SUMMARY:Spring Open House at Malmborg's Garden Center
DESCRIPTION:Kick off the gardening season at Malmborg's Spring Open House. The greenhouse is full of beautiful flowers\, vegetables\, and herbs to get you in the spring spirit. During the Spring Open House\, receive 25% off your entire purchase. Sign-up in store for a chance to win great door prizes and enjoy complimentary cookies and coffee while you shop. April 27th & 28th only\, don't miss this great event.
X-ALT-DESC;FMTTYPE=text/html:Kick off the gardening season at Malmborg&#39\;s Spring Open House. The greenhouse is full of beautiful flowers\, vegetables\, and herbs to get you in the spring spirit. During the Spring Open House\, receive 25% off your entire purchase. Sign-up in store for a chance to win great door prizes and enjoy complimentary cookies and coffee while you shop. April 27th &amp\; 28th only\, don&#39\;t miss this great event.
LOCATION:Malmborg's Garden Center 2456 125th Ave NE Blaine\, MN 55449 Also at Malmborg's Garden Centers in Brooklyn Center & Rogers.
UID:e.380.148913
SEQUENCE:3
DTSTAMP:20260425T002346Z
URL:http://members.metronorthchamber.org/events/details/spring-open-house-at-malmborg-s-garden-center-04-27-2013-148913
END:VEVENT

END:VCALENDAR
