BEGIN:VCALENDAR
VERSION:2.0
PRODID:-//ChamberMaster//Event Calendar 2.0//EN
METHOD:PUBLISH
X-PUBLISHED-TTL:P3D
REFRESH-INTERVAL:P3D
CALSCALE:GREGORIAN
BEGIN:VEVENT
DTSTART:20160417T183000Z
DTEND:20160417T203000Z
X-MICROSOFT-CDO-ALLDAYEVENT:FALSE
SUMMARY:Spring Open House at Autumn Glen Senior Living!
DESCRIPTION:Spring Open House!  Come tour our community -see what's blooming at Autumn Glen and enjoy sweet treats from our dessert bar!
X-ALT-DESC;FMTTYPE=text/html:Spring Open House!&nbsp\; Come tour our community -see what&#39\;s blooming at Autumn Glen and enjoy sweet&nbsp\;treats&nbsp\;from our dessert bar!
LOCATION:3715 Coon Rapids Blvd NW
UID:e.380.167411
SEQUENCE:3
DTSTAMP:20260422T133533Z
URL:http://members.metronorthchamber.org/events/details/spring-open-house-at-autumn-glen-senior-living-04-17-2016-167411
END:VEVENT

END:VCALENDAR
