BEGIN:VCALENDAR
VERSION:2.0
PRODID:-//ChamberMaster//Event Calendar 2.0//EN
METHOD:PUBLISH
X-PUBLISHED-TTL:P3D
REFRESH-INTERVAL:P3D
CALSCALE:GREGORIAN
BEGIN:VEVENT
DTSTART;VALUE=DATE:20191027
DTEND;VALUE=DATE:20191028
TRANSP:TRANSPARENT
X-MICROSOFT-CDO-ALLDAYEVENT:TRUE
SUMMARY:Spring Lake Park Lions Pancake Breakfast
DESCRIPTION:Bring the family and enjoy pancakes\, french toast\, sausage\, scrambled eggs\, juice\, coffee\, and milk!\n\n\n\nFree: Eye screening for Children 6 Months to 6 Years\, face painting\, cholesterol screening from the Mercy Wellness Van and kids books from the Leo club.\n\n\n\nPlease bring: nonperishable food items to donate to the Panther Pantry (Spring Lake Park High School Food Shelf) - Unwanted cell phones\, eye glasses\, hearing aids and Ink cartridges. \n\n\n\nHosted by the Spring Lake Park Lions
X-ALT-DESC;FMTTYPE=text/html:<span style="background-color:rgb(255\, 255\, 255)\; color:rgb(29\, 33\, 41)\; font-family:helvetica\,arial\,sans-serif\; font-size:14px">Bring the family and enjoy pancakes\,&nbsp\;</span><span style="background-color:rgb(255\, 255\, 255)\; color:rgb(29\, 33\, 41)\; font-family:helvetica\,arial\,sans-serif\; font-size:14px">french toast\, sausage\, scrambled&nbsp\;</span><span style="background-color:rgb(255\, 255\, 255)\; color:rgb(29\, 33\, 41)\; font-family:helvetica\,arial\,sans-serif\; font-size:14px">eggs\, juice\, coffee\, and milk!</span><br />\n<br />\n<span style="background-color:rgb(255\, 255\, 255)\; color:rgb(29\, 33\, 41)\; font-family:helvetica\,arial\,sans-serif\; font-size:14px">Free: Eye screening for Children 6 Months to 6 Years\, face painting\, cholesterol screening from the Mercy Wellness Van and kids books from the Leo club.</span><br />\n<br />\n<span style="background-color:rgb(255\, 255\, 255)\; color:rgb(29\, 33\, 41)\; font-family:helvetica\,arial\,sans-serif\; font-size:14px">Please bring: nonperishable&nbsp\;</span><span style="background-color:rgb(255\, 255\, 255)\; color:rgb(29\, 33\, 41)\; font-family:helvetica\,arial\,sans-serif\; font-size:14px">food items to&nbsp\;</span><span style="background-color:rgb(255\, 255\, 255)\; color:rgb(29\, 33\, 41)\; font-family:helvetica\,arial\,sans-serif\; font-size:14px">donate to the Panther&nbsp\;</span><span style="background-color:rgb(255\, 255\, 255)\; color:rgb(29\, 33\, 41)\; font-family:helvetica\,arial\,sans-serif\; font-size:14px">Pantry (Spring Lake Park&nbsp\;</span><span style="background-color:rgb(255\, 255\, 255)\; color:rgb(29\, 33\, 41)\; font-family:helvetica\,arial\,sans-serif\; font-size:14px">High School Food Shelf) - Unwanted cell phones\, eye glasses\, hearing aids and Ink cartridges. </span><br />\n<br />\n<span style="background-color:rgb(255\, 255\, 255)\; color:rgb(29\, 33\, 41)\; font-family:helvetica\,arial\,sans-serif\; font-size:14px">Hosted by the&nbsp\;</span><span style="background-color:rgb(255\, 255\, 255)\; color:rgb(29\, 33\, 41)\; font-family:helvetica\,arial\,sans-serif\; font-size:14px">Spring Lake Park Lions</span>
LOCATION:Spring Lake Park High School Door #33
UID:e.380.191403
SEQUENCE:3
DTSTAMP:20260419T193101Z
URL:http://members.metronorthchamber.org/events/details/spring-lake-park-lions-pancake-breakfast-191403
END:VEVENT

END:VCALENDAR
