BEGIN:VCALENDAR
VERSION:2.0
PRODID:-//ChamberMaster//Event Calendar 2.0//EN
METHOD:PUBLISH
X-PUBLISHED-TTL:P3D
REFRESH-INTERVAL:P3D
CALSCALE:GREGORIAN
BEGIN:VEVENT
DTSTART:20140227T230000Z
DTEND:20140228T020000Z
X-MICROSOFT-CDO-ALLDAYEVENT:FALSE
SUMMARY:Spring Lake Park Lions Club - Coach Bag Bingo!
DESCRIPTION:Get a fun group together and join us at Povs on 65 for Coach Bag Bingo!  We will be giving away authentic Coach bags and accessories to our lucky bingo winners!  We hope to see you there
X-ALT-DESC;FMTTYPE=text/html:Get a fun group together and join us at Povs on 65 for Coach Bag Bingo!&nbsp\; We will be giving away authentic Coach bags and accessories to our lucky bingo winners!&nbsp\; We hope to see you there
LOCATION:Povs on 65 8407 NE Plaza BLVD Spring Lake Park\, MN 55432
UID:e.380.150132
SEQUENCE:3
DTSTAMP:20260424T093343Z
URL:http://members.metronorthchamber.org/events/details/spring-lake-park-lions-club-coach-bag-bingo-02-27-2014-150132
END:VEVENT

END:VCALENDAR
