BEGIN:VCALENDAR
VERSION:2.0
PRODID:-//ChamberMaster//Event Calendar 2.0//EN
METHOD:PUBLISH
X-PUBLISHED-TTL:P3D
REFRESH-INTERVAL:P3D
CALSCALE:GREGORIAN
BEGIN:VEVENT
DTSTART:20140220T000000Z
DTEND:20140220T030000Z
X-MICROSOFT-CDO-ALLDAYEVENT:FALSE
SUMMARY:Spring Lake Park Lions Club - Coach Bag Bingo!
DESCRIPTION:Join the Spring Lake Park Lions at Montes Sports Bar for Coach Bag Bingo!  We will be giving away authentic Coach bags and accessories to our lucky bingo winners!  We hope to see you there
X-ALT-DESC;FMTTYPE=text/html:Join the Spring Lake Park Lions at Montes Sports Bar for Coach Bag Bingo!&nbsp\; We will be giving away authentic Coach bags and accessories to our lucky bingo winners!&nbsp\; We hope to see you there
LOCATION:Montes Sports Bar 8299 University Ave Spring Lake Park\, Minnesota 55432
UID:e.380.150131
SEQUENCE:3
DTSTAMP:20260424T080202Z
URL:http://members.metronorthchamber.org/events/details/spring-lake-park-lions-club-coach-bag-bingo-02-19-2014-150131
END:VEVENT

END:VCALENDAR
