BEGIN:VCALENDAR
VERSION:2.0
PRODID:-//ChamberMaster//Event Calendar 2.0//EN
METHOD:PUBLISH
X-PUBLISHED-TTL:P3D
REFRESH-INTERVAL:P3D
CALSCALE:GREGORIAN
BEGIN:VEVENT
DTSTART:20140215T200000Z
DTEND:20140215T230000Z
X-MICROSOFT-CDO-ALLDAYEVENT:FALSE
SUMMARY:Spring Lake Park Lions Club - Coach Bag Bingo!
DESCRIPTION:Get a fun group of girls together and join us at The Shorewood in Fridley for Coach Bag Bingo!  We will be giving away Coach bags and accessories to our lucky bingo winners.  We hope to see you there!
X-ALT-DESC;FMTTYPE=text/html:Get a fun group of girls together and join us at The Shorewood in Fridley for Coach Bag Bingo!&nbsp\; We will be giving away Coach bags and accessories to our lucky bingo winners.&nbsp\; We hope to see you there!
LOCATION:Shorewood Bar and Grill 6161 Hwy 65 NE Fridley MN 55432
UID:e.380.150130
SEQUENCE:3
DTSTAMP:20260424T080201Z
URL:http://members.metronorthchamber.org/events/details/spring-lake-park-lions-club-coach-bag-bingo-02-15-2014-150130
END:VEVENT

END:VCALENDAR
