BEGIN:VCALENDAR
VERSION:2.0
PRODID:-//ChamberMaster//Event Calendar 2.0//EN
METHOD:PUBLISH
X-PUBLISHED-TTL:P3D
REFRESH-INTERVAL:P3D
CALSCALE:GREGORIAN
BEGIN:VEVENT
DTSTART:20140211T000000Z
DTEND:20140211T030000Z
X-MICROSOFT-CDO-ALLDAYEVENT:FALSE
SUMMARY:Spring Lake Park Lions Club - Coach Bag Bingo!
DESCRIPTION:Get a fun group of girls together and join us at Biffs Sports Bar for Coach Bag Biingo!!  We will be giving away a authentic Coach bags and accessories to our lucky Bingo Winners.
X-ALT-DESC;FMTTYPE=text/html:Get a fun group of girls together and join us at Biffs Sports Bar for Coach Bag Biingo!!&nbsp\; We will be giving away a authentic Coach bags and accessories to our lucky Bingo Winners.&nbsp\; 
LOCATION:Biffs Sports Bar
UID:e.380.150129
SEQUENCE:3
DTSTAMP:20260424T080151Z
URL:http://members.metronorthchamber.org/events/details/spring-lake-park-lions-club-coach-bag-bingo-02-10-2014-150129
END:VEVENT

END:VCALENDAR
