BEGIN:VCALENDAR
VERSION:2.0
PRODID:-//ChamberMaster//Event Calendar 2.0//EN
METHOD:PUBLISH
X-PUBLISHED-TTL:P3D
REFRESH-INTERVAL:P3D
CALSCALE:GREGORIAN
BEGIN:VEVENT
DTSTART:20170520T150000Z
DTEND:20170520T183000Z
X-MICROSOFT-CDO-ALLDAYEVENT:FALSE
SUMMARY:SPRING FLING
DESCRIPTION:CELEBRATE THE SEASON WITH US AT SPRING FLING\n\nFUN AND GAMES FOR A GOOD CAUSE\n\n\nEach year we host a "carnival" and select a not-for-pofit organization to sponsor. 100% of the proceeds raised during our event goes to charity. This year we have selected Li'l Farms which is a crisis foster care home for children.
X-ALT-DESC;FMTTYPE=text/html:<div style="text-align: center\;">CELEBRATE THE SEASON WITH US AT SPRING FLING<br />\n<span style="background-color:rgb(255\, 255\, 255)\; color:rgb(51\, 51\, 51)\; font-family:sans-serif\,arial\,verdana\,trebuchet ms\; font-size:13px">FUN AND GAMES FOR A GOOD CAUSE</span></div>\n<br />\nEach year we host a &quot\;carnival&quot\; and select a not-for-pofit organization to sponsor. 100% of the proceeds raised during our event goes to charity. This year we have selected Li&#39\;l Farms which is a crisis foster care home for children.<br />\n&nbsp\;
LOCATION:Primrose School of The Lakes at Blaine 2303 124th Court NE Blaine\, MN 55449
UID:e.380.175014
SEQUENCE:3
DTSTAMP:20260421T152339Z
URL:http://members.metronorthchamber.org/events/details/spring-fling-175014
END:VEVENT

END:VCALENDAR
