BEGIN:VCALENDAR
VERSION:2.0
PRODID:-//ChamberMaster//Event Calendar 2.0//EN
METHOD:PUBLISH
X-PUBLISHED-TTL:P3D
REFRESH-INTERVAL:P3D
CALSCALE:GREGORIAN
BEGIN:VEVENT
DTSTART:20180309T230000Z
DTEND:20180317T220000Z
X-MICROSOFT-CDO-ALLDAYEVENT:FALSE
SUMMARY:Spring Break University - 7 schedules to choose from
DESCRIPTION:Friday\, March 9 - Saturday\, March 17th\, 2018 (class schedules vary - see website listing)  4 or 5 day classes.\n\n\n\nJoin Boardwalk DIY Studio (Andover\, MN) in an immersive experience that allows your child to use both their hands and their minds.\n\n\n\nParticipants will spend 4 days experiencing wood working\, painting\, art\, chemistry and composite materials.  Alongside these hands-on activities\, participants can also learn about inventing\, American business and salesmanship.  Successful completion of the week allows the students a chance to run and operate their own business\, plus schedule fundraising nights for their favorite organization(s).\n\n\n\nHow cool are the projects?  Many projects have been seen at the county and state fair event   earning ribbons and recognition.  If your child is in 4H\, we can work with them to include photos and detailed explanations of each step so they can perform their best.
X-ALT-DESC;FMTTYPE=text/html:<p><strong>Friday\, March 9 - Saturday\, March 17th\, 2018 </strong>(class schedules vary - <a href="https://boardwalkdiy.us/spring-break-university" target="_blank">see website listing</a>)&nbsp\; <em>4 or 5 day classes.</em><br />\n<br />\nJoin Boardwalk DIY Studio (Andover\, MN) in an immersive experience that allows your child to use both their hands and their minds.<br />\n<br />\nParticipants will spend 4 days experiencing <u>wood working</u>\, <u>painting</u>\, <u>art</u>\, <u>chemistry</u> and <u>composite materials</u>.&nbsp\; Alongside these hands-on activities\, participants can also learn about <u>inventing</u>\, <u>American business</u> and <u>salesmanship</u>.&nbsp\; Successful completion of the week allows the students a chance to run and operate their own business\, plus schedule fundraising nights for their favorite organization(s).<br />\n<br />\nHow cool are the projects?&nbsp\; Many projects have been seen at the county and state fair event &ndash\; earning ribbons and recognition.&nbsp\; If your child is in 4H\, we can work with them to include photos and detailed explanations of each step so they can perform their best.</p>\n
LOCATION:Boardwalk DIY Studio 1574 154th Ave NW\, Studio 107B Andover\, MN 55304
UID:e.380.180177
SEQUENCE:3
DTSTAMP:20260421T002855Z
URL:http://members.metronorthchamber.org/events/details/spring-break-university-7-schedules-to-choose-from-180177
END:VEVENT

END:VCALENDAR
