BEGIN:VCALENDAR
VERSION:2.0
PRODID:-//ChamberMaster//Event Calendar 2.0//EN
METHOD:PUBLISH
X-PUBLISHED-TTL:P3D
REFRESH-INTERVAL:P3D
CALSCALE:GREGORIAN
BEGIN:VEVENT
DTSTART:20171019T150000Z
DTEND:20171020T030000Z
X-MICROSOFT-CDO-ALLDAYEVENT:FALSE
SUMMARY:Spooky Mini Golf Party
DESCRIPTION:Spooky Mini Golf Party!\n\n\n\nAdd to the fun of mini golfing by wearing your costume and enjoy a free treat and Halloween blacklight decor!
X-ALT-DESC;FMTTYPE=text/html:Spooky Mini Golf Party!<br />\n<br />\nAdd to the fun of mini golfing by wearing your costume and enjoy a free treat and Halloween blacklight decor!
LOCATION:Glow in One Mini Golf 12579 Central Ave Blaine
UID:e.380.179138
SEQUENCE:3
DTSTAMP:20260421T084144Z
URL:http://members.metronorthchamber.org/events/details/spooky-mini-golf-party-179138
END:VEVENT

END:VCALENDAR
