BEGIN:VCALENDAR
VERSION:2.0
PRODID:-//ChamberMaster//Event Calendar 2.0//EN
METHOD:PUBLISH
X-PUBLISHED-TTL:P3D
REFRESH-INTERVAL:P3D
CALSCALE:GREGORIAN
BEGIN:VEVENT
DTSTART:20190303T210000Z
DTEND:20190304T000000Z
X-MICROSOFT-CDO-ALLDAYEVENT:FALSE
SUMMARY:Spaghetti Dinner Fundraiser - Hope4Youth
DESCRIPTION:Delicious Spaghetti Dinner with Salad\, Garlic Bread and Beverage\n	Dessert (Freewill Donation)\n	Raffles including a kid-focused raffle\n	New HOPE 4 Youth Gear and Items (For Purchase)\n	Updates on our Youth and The HOPE Movement
X-ALT-DESC;FMTTYPE=text/html:&nbsp\;\n<ul style="box-sizing: border-box\; margin: 0px 0px 20px 7px\; padding: 0px\; border: 0px transparent\; font-variant-numeric: inherit\; font-variant-east-asian: inherit\; font-stretch: inherit\; font-size: 17px\; line-height: inherit\; font-family: Lato\, HelveticaNeue\, &quot\;Helvetica Neue&quot\;\, Helvetica\, Arial\, sans-serif\; vertical-align: baseline\; list-style-position: outside\; list-style-image: initial\; color: rgb(17\, 51\, 4)\; background-color: rgb(255\, 255\, 255)\;">\n	<li style="box-sizing: border-box\; margin: 0px 0px 0px 1em\; padding: 3px 0px\; border: 0px transparent\; font: inherit\; vertical-align: baseline\; color: inherit\;">Delicious Spaghetti Dinner with Salad\, Garlic Bread and Beverage</li>\n	<li style="box-sizing: border-box\; margin: 0px 0px 0px 1em\; padding: 3px 0px\; border: 0px transparent\; font: inherit\; vertical-align: baseline\; color: inherit\;">Dessert (Freewill Donation)</li>\n	<li style="box-sizing: border-box\; margin: 0px 0px 0px 1em\; padding: 3px 0px\; border: 0px transparent\; font: inherit\; vertical-align: baseline\; color: inherit\;">Raffles including a kid-focused raffle</li>\n	<li style="box-sizing: border-box\; margin: 0px 0px 0px 1em\; padding: 3px 0px\; border: 0px transparent\; font: inherit\; vertical-align: baseline\; color: inherit\;">New HOPE 4 Youth Gear and Items (For Purchase)</li>\n	<li style="box-sizing: border-box\; margin: 0px 0px 0px 1em\; padding: 3px 0px\; border: 0px transparent\; font: inherit\; vertical-align: baseline\; color: inherit\;">Updates on our Youth and The HOPE Movement</li>\n</ul>\n<br />\n&nbsp\;
LOCATION:Coon Rapids VFW 1919 Coon Rapids Blvd NW Coon Rapids
UID:e.380.187958
SEQUENCE:3
DTSTAMP:20260420T054921Z
URL:http://members.metronorthchamber.org/events/details/spaghetti-dinner-fundraiser-hope4youth-187958
END:VEVENT

END:VCALENDAR
