BEGIN:VCALENDAR
VERSION:2.0
PRODID:-//ChamberMaster//Event Calendar 2.0//EN
METHOD:PUBLISH
X-PUBLISHED-TTL:P3D
REFRESH-INTERVAL:P3D
CALSCALE:GREGORIAN
BEGIN:VEVENT
DTSTART:20180418T120000Z
DTEND:20180418T140000Z
X-MICROSOFT-CDO-ALLDAYEVENT:FALSE
SUMMARY:South Metro Networking Event
DESCRIPTION:Visitor Day at South Metros BNI's Potential Long Term Partner Day
X-ALT-DESC;FMTTYPE=text/html:Visitor Day at South Metros BNI&#39\;s Potential Long Term Partner Day
LOCATION:Wooddale Church - Eden Prairie 6630 Shady Oak Rd Eden Prairie\, MN 55344
UID:e.380.183762
SEQUENCE:3
DTSTAMP:20260420T230109Z
URL:http://members.metronorthchamber.org/events/details/south-metro-networking-event-183762
END:VEVENT

END:VCALENDAR
