BEGIN:VCALENDAR
VERSION:2.0
PRODID:-//ChamberMaster//Event Calendar 2.0//EN
METHOD:PUBLISH
X-PUBLISHED-TTL:P3D
REFRESH-INTERVAL:P3D
CALSCALE:GREGORIAN
BEGIN:VEVENT
DTSTART:20150929T170000Z
DTEND:20150929T180000Z
X-MICROSOFT-CDO-ALLDAYEVENT:FALSE
SUMMARY:Social Media Basics - Lunch-n-Learn
DESCRIPTION:Is your business using Social Media? Do you understand Social Media basics? If not\, why not?\n\n\n\nCome and have lunch (on us) and learn\; in plain english\, how Social Media can benefit your business.\n \n\nSpace is limited so REGISTER HERE today!\n\n\nSocial Media Basics is designed to teach you\; in non-technical jargon\, the basics of what Social Media is and how it can benefit your business.\n\n\n\nWhat you will learn:\n\n\n	Social Media - What Is It and Why Its So Important\n	Understanding Customers Need for Connections\n	Traditional Marketing vs. Social Media Marketing\n	Basic Social Media Strategy\n	Social Media Advertising\n	Top Sites (What They Are and What They Are For)
X-ALT-DESC;FMTTYPE=text/html:<div style="text-align:center"><strong><span style="font-size:14px">Is your business using Social Media? Do you understand Social Media basics? If not\, why not?</span></strong></div>\n\n<div style="text-align:center"><br />\nCome and have lunch (on us) and learn\; in plain english\, how Social Media can benefit your business.</div>\n&nbsp\;\n\n<div style="text-align:center"><em><strong>Space is limited so <a href="http://teachmesocialmedia.net/events/social-media-basics-lunch-n-learn/" target="_blank">REGISTER HERE</a> today!</strong></em></div>\n<br />\n<strong>Social Media Basics</strong> is designed to teach you\; in non-technical jargon\, the basics of what Social Media is and how it can benefit your business.<br />\n<br />\n<strong>What you will learn</strong>:\n\n<ul>\n	<li>Social Media - What Is It and Why Its So Important</li>\n	<li>Understanding Customers Need for Connections</li>\n	<li>Traditional Marketing vs. Social Media Marketing</li>\n	<li>Basic Social Media Strategy</li>\n	<li>Social Media Advertising</li>\n	<li>Top Sites (What They Are and What They Are For)</li>\n</ul>\n
LOCATION:Metro North Chamber of Commerce The 21st Century Bank Building 9380 Central Ave. NE\, Suite 320 Blaine\, MN 55434
UID:e.380.159577
SEQUENCE:3
DTSTAMP:20260423T025912Z
URL:http://members.metronorthchamber.org/events/details/social-media-basics-lunch-n-learn-09-29-2015-159577
END:VEVENT

END:VCALENDAR
