BEGIN:VCALENDAR
VERSION:2.0
PRODID:-//ChamberMaster//Event Calendar 2.0//EN
METHOD:PUBLISH
X-PUBLISHED-TTL:P3D
REFRESH-INTERVAL:P3D
CALSCALE:GREGORIAN
BEGIN:VEVENT
DTSTART:20191117T000000Z
DTEND:20191117T030000Z
X-MICROSOFT-CDO-ALLDAYEVENT:FALSE
SUMMARY:So Plaid You Care Gala
DESCRIPTION:Come enjoy traditional Minnesota family food\, entertainment\, a silent auction and raffle. Dress Code- Casual/Flannel/Plaid\n\n$30 per ticket/$50 per couple\n\nAll Proceeds go towards Scholarships
X-ALT-DESC;FMTTYPE=text/html:Come enjoy traditional Minnesota family food\, entertainment\, a silent auction and raffle. Dress Code- Casual/Flannel/Plaid<br />\n$30 per ticket/$50 per couple<br />\nAll Proceeds go towards Scholarships&nbsp\;
LOCATION:Majestic Oaks Golf Course 701 Bunker Lake Blvd NE Ham Lake MN\, 55304
UID:e.380.191454
SEQUENCE:3
DTSTAMP:20260419T161613Z
URL:http://members.metronorthchamber.org/events/details/so-plaid-you-care-gala-191454
END:VEVENT

END:VCALENDAR
