BEGIN:VCALENDAR
VERSION:2.0
PRODID:-//ChamberMaster//Event Calendar 2.0//EN
METHOD:PUBLISH
X-PUBLISHED-TTL:P3D
REFRESH-INTERVAL:P3D
CALSCALE:GREGORIAN
BEGIN:VEVENT
DTSTART:20120822T153000Z
DTEND:20120822T160000Z
X-MICROSOFT-CDO-ALLDAYEVENT:FALSE
SUMMARY:Smiling Spaces Ribbon Cutting
DESCRIPTION:Come join us as we celebrate the ribbon cutting of Smiling Spaces!  Bring business cards to enter a drawing to be featured in their newsletter or to win a seat at a Smiling Spaces Workshop.\n\n\n\nLess Piles = More Smiles!\n\n\n\nSmiling Spaces\, LLC is a professional organizing business that offers organizing services and products. \n\n\n\nOur organizing services provide solutions for organizing your life and home. When the spaces in your life have taken on a life of their own\, we will help you reclaim these areas to make them better reflect your current lifestyle\, goals\, and interests. Getting organized can empower you to simplify your life and "right size" your belongings. \n\n\n\nIn addition to in-home organizing services\, Smiling Spaces offers specialty organizing products. Organize Your Dream Wedding is perfect for engaged couples starting to plan a wedding. Organized Talent is for any performing artists who wants to be better prepared\, professional\, and organized.
X-ALT-DESC;FMTTYPE=text/html:Come join us as we celebrate the ribbon cutting of Smiling Spaces!&nbsp\; Bring business cards to enter a drawing to be featured in their newsletter or to win a seat at a Smiling Spaces Workshop.<br />\n<br />\nLess Piles = More Smiles!<br />\n<br />\n<span style="font-size: 10pt"><font face="Arial\, Helvetica\, sans-serif"><font style="font-size: 14px"><font style="font-size: 13px"><strong>Smiling Spaces\, LLC&nbsp\;is a professional organizing business that offers organizing&nbsp\;services and products.&nbsp\;</strong><br />\n<br />\n<font face="Arial"><font size="2">Our&nbsp\;organizing services provide solutions for organizing your life and home.&nbsp\;When the spaces in your life have taken on a life of their own\, we will help you reclaim these areas to make them better reflect your current lifestyle\, goals\, and interests.&nbsp\;Getting organized can empower you&nbsp\;to simplify your life and &quot\;right size&quot\; your belongings.&nbsp\;</font></font><br />\n<br />\nIn addition to in-home organizing services\, Smiling Spaces&nbsp\;offers specialty organizing products. <em>Organize Your Dream Wedding</em> is perfect for engaged&nbsp\;couples&nbsp\;starting to plan a wedding. <em>Organized Talent</em>&nbsp\;is for any&nbsp\;performing artists who wants to be better prepared\, professional\, and organized.</font></font></font><br />\n<br />\n<font face="Georgia\, serif"><font face="Arial\, Helvetica\, sans-serif"><font color="#2e95e1" face="Georgia\, serif"><font face="Arial\, Helvetica\, sans-serif"><font color="#4b291d"><strong><span _fck_bookmark="1" style="display: none">&nbsp\;</span></strong></font></font></font></font></font></span>
LOCATION:after Working with Women Rasmussen College 3629 95th Ave. NE Blaine\, MN 55014
UID:e.380.146176
SEQUENCE:3
DTSTAMP:20260425T125630Z
URL:http://members.metronorthchamber.org/events/details/smiling-spaces-ribbon-cutting-08-22-2012-146176
END:VEVENT

END:VCALENDAR
