BEGIN:VCALENDAR
VERSION:2.0
PRODID:-//ChamberMaster//Event Calendar 2.0//EN
METHOD:PUBLISH
X-PUBLISHED-TTL:P3D
REFRESH-INTERVAL:P3D
CALSCALE:GREGORIAN
BEGIN:VEVENT
DTSTART:20150319T150000Z
DTEND:20150319T160000Z
X-MICROSOFT-CDO-ALLDAYEVENT:FALSE
SUMMARY:Smiling Spaces: Home Organization Solutions for Spring
DESCRIPTION:Are you ready for spring cleaning? Ready to move or downsize? Learn how to organize your home and family with tips from local organizing expert Andrea Brandt of Smiling Spaces\, LLC. Come with your questions and leave knowing where to start and what to do next. FREE\, Refreshments Served!
X-ALT-DESC;FMTTYPE=text/html:<strong><span style="font-family:arial"><span style="font-size:10.0pt">Are you ready for s</span></span></strong><span style="color:#222222"><span style="font-family:arial"><span style="font-size:10.0pt"><strong>pring cleaning?</strong> Ready to move or downsize? Learn how to organize your home and family with tips from local organizing expert Andrea Brandt of Smiling Spaces\, LLC. Come with your questions and leave knowing where to start and what to do next. FREE\,&nbsp\;</span></span></span>Refreshments Served!
LOCATION:The Landmark of Fridley 6490 Central Ave NE Fridley\, MN 55432
UID:e.380.157225
SEQUENCE:3
DTSTAMP:20260423T111649Z
URL:http://members.metronorthchamber.org/events/details/smiling-spaces-home-organization-solutions-for-spring-03-19-2015-157225
END:VEVENT

END:VCALENDAR
