BEGIN:VCALENDAR
VERSION:2.0
PRODID:-//ChamberMaster//Event Calendar 2.0//EN
METHOD:PUBLISH
X-PUBLISHED-TTL:P3D
REFRESH-INTERVAL:P3D
CALSCALE:GREGORIAN
BEGIN:VEVENT
DTSTART:20191130T150000Z
DTEND:20191201T000000Z
X-MICROSOFT-CDO-ALLDAYEVENT:FALSE
SUMMARY:Small Business Saturday Sale
DESCRIPTION:Small Business Saturday Sale\n\nNovember 30th\n\n9am - 11am and 4pm - 6pm \n\n20 % Off Any Purchase\n\n(Not valid on Gift Cards)\n\n11am - 4pm\n\n15% Off All Dog & Cat Food\n\n30% Off Collars\, Leashes\, Bones\, Coats\, Boots\, Beds\, Toys! \n\nOne transaction per customer. Valid 11/30/2019. May not be combined with other offers. Not valid on sales table. Not valid on Gift Cards. Consumer pays all sales tax. No cash value. Receipt and original packaging required for all returns. Returns must be made within 30 days of purchased.
X-ALT-DESC;FMTTYPE=text/html:<p style="text-align:center"><span style="color:#000000">Small Business Saturday Sale</span></p>\n\n<p style="text-align:center"><span style="color:#000000">November 30th</span></p>\n\n<p style="text-align:center"><span style="color:rgb(0\, 0\, 0)"><u><strong>9am - 11am and 4pm - 6pm&nbsp\;</strong></u></span><br />\n<span style="color:rgb(0\, 0\, 0)">20 % Off Any Purchase</span></p>\n\n<p style="text-align:center"><span style="color:#000000">(Not valid on Gift Cards)</span></p>\n\n<p style="text-align:center"><span style="color:rgb(0\, 0\, 0)"><u><strong>11am - 4pm</strong></u></span><br />\n<span style="color:rgb(0\, 0\, 0)">15% Off All Dog &amp\; Cat Food</span><br />\n<span style="color:rgb(0\, 0\, 0)">30</span><span style="color:rgb(0\, 0\, 0)">% Off Collars\, Leashes\, Bones\,&nbsp\;</span><span style="color:rgb(0\, 0\, 0)">Coats\, Boots\, Beds\, Toys!&nbsp\;</span></p>\n\n<p style="text-align:center"><span style="color:rgb(0\, 0\, 0)">One transaction per customer. Valid 11/30/2019. May not be combined with other offers. Not valid on sales table. Not valid on Gift Cards.&nbsp\;Consumer pays all sales tax. No cash value. Receipt&nbsp\;and original packaging required for all returns. Returns must be made within 30 days of purchased.</span></p>\n
LOCATION:Canine Crossing 1574 154th Ave NW\, Andover MN
UID:e.380.191714
SEQUENCE:3
DTSTAMP:20260419T180827Z
URL:http://members.metronorthchamber.org/events/details/small-business-saturday-sale-11-30-2019-191714
END:VEVENT

END:VCALENDAR
