BEGIN:VCALENDAR
VERSION:2.0
PRODID:-//ChamberMaster//Event Calendar 2.0//EN
METHOD:PUBLISH
X-PUBLISHED-TTL:P3D
REFRESH-INTERVAL:P3D
CALSCALE:GREGORIAN
BEGIN:VEVENT
DTSTART:20160204T170000Z
DTEND:20160204T180000Z
X-MICROSOFT-CDO-ALLDAYEVENT:FALSE
SUMMARY:Small Business Information & Cybersecurity Workshop
DESCRIPTION:Business decision-makers will get an opportunity to learn about how to bring awareness of internal and external threats\, and how to make informed decisions about where to best put critical resources.\n\n\n\nAgenda:\n\n\n\n1)  Why You Should Care About Information and Cybersecurity\n\n2)  Why Do Small Businesses Need to Plan for Data Breaches and Recovery\n\n3)  Practical Steps to Protect Your Business\n\n4)  Where to Go and What To Do If You Need Help\n\n\n\nWho Should Attend:\n\n\n\nSmall Business Owners or Small Business Management Executives.\n\n\n\nLimited Seating\, Please RSVP  By 2/1/16 to:\n\nBruce 763-744-7104 or bruce@wispusa.com\n\n\n\n"FREE" highly critical business publications and resources provided by Market Communications of  MN\, Inc.
X-ALT-DESC;FMTTYPE=text/html:<span style="color:black\;">Business decision-makers will get an opportunity to learn about how to bring awareness of internal and external threats\, and how to make informed decisions about where to best put critical resources.<br />\n<br />\nAgenda:<br />\n<br />\n1)&nbsp\; Why You Should Care About Information and Cybersecurity<br />\n2)&nbsp\; Why Do Small Businesses Need to Plan for Data Breaches and Recovery<br />\n3)&nbsp\; Practical Steps to Protect Your Business<br />\n4)&nbsp\; Where to Go and What To Do If You Need Help<br />\n<br />\nWho Should Attend:<br />\n<br />\nSmall Business Owners or Small Business Management Executives.<br />\n<br />\nLimited Seating\, Please RSVP&nbsp\; By 2/1/16 to:</span><br />\n<span style="color:black\;">Bruce 763-744-7104 or <a href="mailto:bruce@wispusa.com">bruce@wispusa.com</a><br />\n<br />\n&ldquo\;FREE&rdquo\; highly critical business publications and resources provided by Market Communications of&nbsp\; MN\, Inc.</span>
LOCATION:MetroNorth Chamber of Commerce The 21st Century Bank Building 9380 Central Avenue NE\, Suite 320 Blaine\, MN 55434
UID:e.380.163080
SEQUENCE:3
DTSTAMP:20260422T175735Z
URL:http://members.metronorthchamber.org/events/details/small-business-information-cybersecurity-workshop-02-04-2016-163080
END:VEVENT

END:VCALENDAR
