BEGIN:VCALENDAR
VERSION:2.0
PRODID:-//ChamberMaster//Event Calendar 2.0//EN
METHOD:PUBLISH
X-PUBLISHED-TTL:P3D
REFRESH-INTERVAL:P3D
CALSCALE:GREGORIAN
BEGIN:VEVENT
DTSTART:20130227T003000Z
DTEND:20130227T020000Z
X-MICROSOFT-CDO-ALLDAYEVENT:FALSE
SUMMARY:Slimming & Sassy You! Group Weight Loss-Tuesdays Jan 8-May 14\, 6:30 - 8:00
DESCRIPTION:A Mind-Centered approach to lasting weight loss\n\n\n\nMillie lost 15 lbs in 4 weeks\; as a diabetic dropped blood sugar levels from 150 to 92 in ONE week. She feels great and has much more energy.\n\n\n\nBenefits:\n\n\n\n  Be energized and motivated in a group setting\n\n  Eliminate self-sabotaging thinking patterns\n\n  Boost self-esteem and positive self-image\n\n  Manage stress\, boredom and emotional triggers of overeating and cravings.\n\n  Learn about sugar addictions\, products for accelerating weight loss\, and MORE.\n\n\n\nDifferent educational presentation each week and a group hypnosis session in your own gravity chair.\n\n\n\nPreregistration Required. Very Limited Spots. Sign up soon!
X-ALT-DESC;FMTTYPE=text/html:A Mind-Centered approach to lasting weight loss<br />\n<br />\nMillie lost 15 lbs in 4 weeks\; as a diabetic dropped blood sugar levels from 150 to 92 in ONE week. She feels great and has much more energy.<br />\n<br />\nBenefits:<br />\n<br />\n&middot\; Be energized and motivated in a group setting<br />\n&middot\; Eliminate self-sabotaging thinking patterns<br />\n&middot\; Boost self-esteem and positive self-image<br />\n&middot\; Manage stress\, boredom and emotional triggers of overeating and cravings.<br />\n&middot\; Learn about sugar addictions\, products for accelerating weight loss\, and MORE.<br />\n<br />\nDifferent educational presentation each week and a group hypnosis session in your own gravity chair.<br />\n<br />\nPreregistration Required. Very Limited Spots. Sign up soon!
LOCATION:MindScapes UnLimited Mind Coaching Center In the Wellness Circle 7094 Lake Drive #160\, Suite 200\, Lino Lakes MN.
UID:e.380.147132
SEQUENCE:3
DTSTAMP:20260425T034729Z
URL:http://members.metronorthchamber.org/events/details/slimming-sassy-you-group-weight-loss-tuesdays-jan-8-may-14-6-30-8-00-02-26-2013-147132
END:VEVENT

END:VCALENDAR
