BEGIN:VCALENDAR
VERSION:2.0
PRODID:-//ChamberMaster//Event Calendar 2.0//EN
METHOD:PUBLISH
X-PUBLISHED-TTL:P3D
REFRESH-INTERVAL:P3D
CALSCALE:GREGORIAN
BEGIN:VEVENT
DTSTART:20190309T160000Z
DTEND:20190310T050000Z
X-MICROSOFT-CDO-ALLDAYEVENT:FALSE
SUMMARY:SKY ZONE BLAINE: ONE YEAR ANNIVERSARY!
DESCRIPTION:SKY ZONE BLAINE: ONE YEAR ANNIVERSARY\n\n\n\nWe are celebrating the one year anniversary for Sky Zone Blaine on Saturday\, March 9 from 10am-11pm! \n\n\n\nWe will be offering:\n\n60 Minute Jump Tickets for $3.00/ticket\n\n90 Minute Jump Tickets for $5.00/ticket\n\n\nThere will be giveaways throughout the day\, games/activities\, concession specials\, and community vendors!\n\nWe will also have face painting from 11:00am - 2:00pm!\n\n\n\nLEARN MORE: http://bit.ly/2SXTz4M
X-ALT-DESC;FMTTYPE=text/html:<p>SKY ZONE BLAINE: ONE YEAR ANNIVERSARY<br />\n<br />\nWe are celebrating the one year anniversary for Sky Zone Blaine on Saturday\, March 9 from 10am-11pm!&nbsp\;<br />\n<br />\nWe will be offering:<br />\n60 Minute Jump Tickets for $3.00/ticket<br />\n<span style="font-family:inherit">90 Minute Jump Tickets for $5.00/ticket</span></p>\n\n<div>\n<p>There will be giveaways throughout the day\, games/activities\, concession specials\, and community vendors!<br />\nWe will also have face painting from 11:00am - 2:00pm!<br />\n<br />\nLEARN MORE:&nbsp\;<a href="https://bit.ly/2SXTz4M?fbclid=IwAR3aVfxU-6A0Z3Ibf6pBPOlMR8WOHbOsbkBNw40f3yPS8hiP6qrrndOxsMI" rel="noopener nofollow" style="color: rgb(54\, 88\, 153)\; font-family: inherit\; cursor: pointer\; text-decoration-line: none\;" target="_blank">http://bit.ly/2SXTz4M</a></p>\n</div>\n
LOCATION:Sky Zone Blaine 198 Northtown Dr. Blaine\, Minnesota 55434
UID:e.380.188469
SEQUENCE:3
DTSTAMP:20260420T060158Z
URL:http://members.metronorthchamber.org/events/details/sky-zone-blaine-one-year-anniversary-188469
END:VEVENT

END:VCALENDAR
