BEGIN:VCALENDAR
VERSION:2.0
PRODID:-//ChamberMaster//Event Calendar 2.0//EN
METHOD:PUBLISH
X-PUBLISHED-TTL:P3D
REFRESH-INTERVAL:P3D
CALSCALE:GREGORIAN
BEGIN:VEVENT
DTSTART:20180731T160000Z
DTEND:20180731T170000Z
X-MICROSOFT-CDO-ALLDAYEVENT:FALSE
SUMMARY:Sit and be fit/SilverSneakers FLEX®
DESCRIPTION:Pull up a chair and get moving with this low impact workout focused on muscle strengthening\, aerobic conditioning and stretching to improve your overall health and mobility. These group exercise classes are performed at various community centers surrounding our clinic locations. The classes meet 1-2 times per week and are free for seniors to attend.\n\nWe are also proud to offer Silver Sneakers FLEX  classes.\n\n\n\nTivity Health\, SilverSneakers and SilverSneakers FLEX are registered trademarks or trademarks of Tivity Health\, Inc. and/or its subsidiaries and/or a liates in the USA and/or other countries.   2017 Tivity Health\, Inc. All rights reserved.
X-ALT-DESC;FMTTYPE=text/html:<p>Pull up a chair and get moving with this low impact workout focused on muscle strengthening\, aerobic conditioning and stretching to improve your overall health and mobility. These group exercise classes are performed at various community centers surrounding our clinic locations. The classes meet 1-2 times per week and are free for seniors to attend.</p>\n\n<p>We are also proud to offer Silver Sneakers FLEX&reg\; classes.<br />\n<br />\n<span style="font-size:9px"><span style="color:rgb(35\, 31\, 32)\; font-family:roboto\,arial\,sans-serif">Tivity Health\, SilverSneakers and SilverSneakers FLEX are registered trademarks or trademarks of Tivity Health\, Inc. and/or its subsidiaries and/or a liates in the USA and/or other countries. &copy\; 2017 Tivity Health\, Inc. All rights reserved.</span></span></p>\n
LOCATION:Isanti Community/Senior Center 208 1/2 1st Avenue Northwest Isanti\, MN 55040
UID:e.380.186408
SEQUENCE:3
DTSTAMP:20260420T182505Z
URL:http://members.metronorthchamber.org/events/details/sit-and-be-fit-silversneakers-flex-07-31-2018-186408
END:VEVENT

END:VCALENDAR
