BEGIN:VCALENDAR
VERSION:2.0
PRODID:-//ChamberMaster//Event Calendar 2.0//EN
METHOD:PUBLISH
X-PUBLISHED-TTL:P3D
REFRESH-INTERVAL:P3D
CALSCALE:GREGORIAN
BEGIN:VEVENT
DTSTART:20120511T210000Z
DTEND:20120512T020000Z
X-MICROSOFT-CDO-ALLDAYEVENT:FALSE
SUMMARY:Simply You Stop and Shop for Mother's Day!
DESCRIPTION:Stop and Shop for Mother's Day!\n\nFriday\, May 11\, 2012 \n\nOpen House 4 -9 PM\n\n\n\n14677 Hummingbird St NW\, Andover MN  55304\n\n\n\nMother's Day is second only to Christmas for gift giving\, and the most requested gift is jewelry!\n\n\n\nStop to get your last minute gift from the beautiful\, affordable line from Simply You.  I'll even put your purchase in a gift bag!\n\n\n\nAll Simply You jewelry is lead\, nickel and cadmium free\, so you can shop with confidence.\n\n\n\nwww.jolene.mysimplyyou.com
X-ALT-DESC;FMTTYPE=text/html:Stop and Shop for Mother&#39\;s Day!<br />\nFriday\, May 11\, 2012&nbsp\;<br />\nOpen House 4 -9 PM<br />\n<br />\n14677 Hummingbird St NW\, Andover MN&nbsp\; 55304<br />\n<br />\nMother&#39\;s Day is second only to Christmas for gift giving\, and the most requested gift is jewelry!<br />\n<br />\nStop to get your last minute gift from the beautiful\, affordable line from Simply You.&nbsp\; I&#39\;ll even put your purchase in a gift bag!<br />\n<br />\nAll Simply You jewelry is lead\, nickel and cadmium free\, so you can shop with confidence.<br />\n<br />\nwww.jolene.mysimplyyou.com<br />\n
LOCATION:14677 Hummingbird St NW
UID:e.380.143815
SEQUENCE:3
DTSTAMP:20260425T192851Z
URL:http://members.metronorthchamber.org/events/details/simply-you-stop-and-shop-for-mother-s-day-05-11-2012-143815
END:VEVENT

END:VCALENDAR
