BEGIN:VCALENDAR
VERSION:2.0
PRODID:-//ChamberMaster//Event Calendar 2.0//EN
METHOD:PUBLISH
X-PUBLISHED-TTL:P3D
REFRESH-INTERVAL:P3D
CALSCALE:GREGORIAN
BEGIN:VEVENT
DTSTART:20180505T160000Z
DTEND:20180505T190000Z
X-MICROSOFT-CDO-ALLDAYEVENT:FALSE
SUMMARY:Silent Auction - Explore Your World
DESCRIPTION:Explore Your World is a silent auction and family fun event to raise money for students to participate in extended overnight learning expeditions.
X-ALT-DESC;FMTTYPE=text/html:<span style="color: rgb(29\, 33\, 41)\; font-family: Helvetica\, Arial\, sans-serif\; font-size: 14px\; background-color: rgb(255\, 255\, 255)\;">Explore Your World is a silent auction and family fun event to raise money for students to participate in extended overnight learning expeditions.</span>
LOCATION:Northwest Passage High School 11345 Robinson Dr NW\, Coon Rapids\, Minnesota 55443
UID:e.380.183772
SEQUENCE:3
DTSTAMP:20260420T212612Z
URL:http://members.metronorthchamber.org/events/details/silent-auction-explore-your-world-183772
END:VEVENT

END:VCALENDAR
