BEGIN:VCALENDAR
VERSION:2.0
PRODID:-//ChamberMaster//Event Calendar 2.0//EN
METHOD:PUBLISH
X-PUBLISHED-TTL:P3D
REFRESH-INTERVAL:P3D
CALSCALE:GREGORIAN
BEGIN:VEVENT
DTSTART:20150919T000000Z
DTEND:20150919T020000Z
X-MICROSOFT-CDO-ALLDAYEVENT:FALSE
SUMMARY:Sick or Well? - Inspiring Healthy Living with Dr. Grank Eggleston
DESCRIPTION:Dr. Eggleston is a well-known lecturer speaking throughout Texas and the nation on health and nutrition. He has been a preventative and restorative dentist for over 30 years. He served as President of the 7\,100 member Texas Dental Association in 1995. He was the 1996 recipient of The Distinguished Service Award and the 2004 recipient of the Gold Medal Award\, the highest awards given in Texas Dentistry. Dr. Eggleston also served on the American Dental Association Board of Trustees from 1999 to 2003. Dr. Eggleston is a native Houstonian and a lifetime student of nutrition.
X-ALT-DESC;FMTTYPE=text/html:<span style="line-height: 20.7999992370605px\;">Dr.&nbsp\;</span><span style="line-height: 20.7999992370605px\;">Egglesto</span><span style="line-height: 20.7999992370605px\;">n</span><span style="line-height: 20.7999992370605px\;">&nbsp\;is a well-known lecturer speaking throughout Texas and the nation on health and nutrition. He has been a preventative and restorative dentist for over 30 years. He served as President of the 7\,100 member Texas Dental Association in 1995. He was the 1996 recipient of The Distinguished Service Award and the 2004 recipient of the Gold Medal Award\, the highest awards given in Texas Dentistry. Dr.&nbsp\;</span>Eggleston<span style="line-height: 20.7999992370605px\;">&nbsp\;also served on the American Dental Association Board of Trustees from 1999 to 2003. Dr.&nbsp\;</span>Eggleston<span style="line-height: 20.7999992370605px\;">&nbsp\;is a native Houstonian&nbsp\;and a lifetime student of nutrition.&nbsp\;</span>
LOCATION:
UID:e.380.159576
SEQUENCE:3
DTSTAMP:20260423T030357Z
URL:http://members.metronorthchamber.org/events/details/sick-or-well-inspiring-healthy-living-with-dr-grank-eggleston-09-18-2015-159576
END:VEVENT

END:VCALENDAR
