BEGIN:VCALENDAR
VERSION:2.0
PRODID:-//ChamberMaster//Event Calendar 2.0//EN
METHOD:PUBLISH
X-PUBLISHED-TTL:P3D
REFRESH-INTERVAL:P3D
CALSCALE:GREGORIAN
BEGIN:VEVENT
DTSTART:20150918T003000Z
DTEND:20150918T020000Z
X-MICROSOFT-CDO-ALLDAYEVENT:FALSE
SUMMARY:Sick or Well? - Inspiring Healthy Living with Dr. Grank Eggleston
DESCRIPTION:Dr. Eggleston is a well-known lecturer speaking throughout Texas and the nation on health and nutrition. He has been a preventative and restorative dentist for over 30 years. He served as President of the 7\,100 member Texas Dental Association in 1995. He was the 1996 recipient of The Distinguished Service Award and the 2004 recipient of the Gold Medal Award\, the highest awards given in Texas Dentistry. Dr. Eggleston also served on the American Dental Association Board of Trustees from 1999 to 2003. Dr. Eggleston is a native Houstonian and a lifetime student of nutrition.
X-ALT-DESC;FMTTYPE=text/html:Dr. Eggleston is a well-known lecturer speaking throughout Texas and the nation on health and nutrition. He has been a preventative and restorative dentist for over 30 years. He served as President of the 7\,100 member Texas Dental Association in 1995. He was the 1996 recipient of The Distinguished Service Award and the 2004 recipient of the Gold Medal Award\, the highest awards given in Texas Dentistry. Dr. Eggleston also served on the American Dental Association Board of Trustees from 1999 to 2003. Dr. Eggleston is a native Houstonian&nbsp\;and a lifetime student of nutrition.&nbsp\;
LOCATION:
UID:e.380.159575
SEQUENCE:3
DTSTAMP:20260423T030431Z
URL:http://members.metronorthchamber.org/events/details/sick-or-well-inspiring-healthy-living-with-dr-grank-eggleston-09-17-2015-159575
END:VEVENT

END:VCALENDAR
