BEGIN:VCALENDAR
VERSION:2.0
PRODID:-//ChamberMaster//Event Calendar 2.0//EN
METHOD:PUBLISH
X-PUBLISHED-TTL:P3D
REFRESH-INTERVAL:P3D
CALSCALE:GREGORIAN
BEGIN:VEVENT
DTSTART:20170603T150000Z
DTEND:20170603T180000Z
X-MICROSOFT-CDO-ALLDAYEVENT:FALSE
SUMMARY:Shred Event
DESCRIPTION:Join Us For Our Community Shred Event\n\n                Hosted By \n\nFinancial One & Trust Vets\n\n\n	Free Paper Shredding by Veterans Shredding\n	Free Credit Report by Financial One\n	Veterans Services Information Also Available
X-ALT-DESC;FMTTYPE=text/html:<div style="text-align: center\;">Join Us For Our Community Shred Event<br />\n&nbsp\;&nbsp\;&nbsp\;&nbsp\;&nbsp\;&nbsp\;&nbsp\;&nbsp\;&nbsp\;&nbsp\;&nbsp\;&nbsp\;&nbsp\; &nbsp\; Hosted By&nbsp\;<br />\nFinancial One &amp\; Trust Vets</div>\n\n<ul>\n	<li>Free Paper Shredding by Veterans Shredding</li>\n	<li>Free Credit Report by Financial One</li>\n	<li>Veterans Services Information Also Available</li>\n</ul>\n
LOCATION:Coon Rapids Financial One 11465 Robinson Drive NW
UID:e.380.174997
SEQUENCE:3
DTSTAMP:20260421T134915Z
URL:http://members.metronorthchamber.org/events/details/shred-event-174997
END:VEVENT

END:VCALENDAR
