BEGIN:VCALENDAR
VERSION:2.0
PRODID:-//ChamberMaster//Event Calendar 2.0//EN
METHOD:PUBLISH
X-PUBLISHED-TTL:P3D
REFRESH-INTERVAL:P3D
CALSCALE:GREGORIAN
BEGIN:VEVENT
DTSTART:20120602T140000Z
DTEND:20120602T170000Z
X-MICROSOFT-CDO-ALLDAYEVENT:FALSE
SUMMARY:Shred Day Hosted By Community Pride Bank
DESCRIPTION:Community Pride Bank is hosting a Shred Day on Saturday\, June 2nd from 9:00am to Noon at their Ham Lake facility! (1441 Bunker Lake Boulevard NE\, Ham Lake\, MN 55304)\n\n	Prevent identity theft and shred your personal documents at Community Pride Bank's FREE Shred Day!!  For more information please call: (763) 862-6500 or email: jsmith@cpride.com.
X-ALT-DESC;FMTTYPE=text/html:<p>\n	<strong>Community Pride Bank is hosting a Shred Day on Saturday\, June&nbsp\;2nd from 9:00am to Noon at their Ham Lake facility!</strong> (1441 Bunker Lake Boulevard NE\, Ham Lake\, MN 55304)</p>\n<p>\n	<strong>Prevent identity theft and shred your personal documents at Community Pride Bank&#39\;s FREE Shred Day!!&nbsp\; </strong>For more information please call: (763) 862-6500 or email: <a href="mailto:jsmith@cpride.com">jsmith@cpride.com</a>.</p>\n
LOCATION:Community Pride Bank 1441 Bunker Lake Boulevard NE Ham Lake\, Minnesota 55304
UID:e.380.143806
SEQUENCE:3
DTSTAMP:20260425T161819Z
URL:http://members.metronorthchamber.org/events/details/shred-day-hosted-by-community-pride-bank-06-02-2012-143806
END:VEVENT

END:VCALENDAR
