BEGIN:VCALENDAR
VERSION:2.0
PRODID:-//ChamberMaster//Event Calendar 2.0//EN
METHOD:PUBLISH
X-PUBLISHED-TTL:P3D
REFRESH-INTERVAL:P3D
CALSCALE:GREGORIAN
BEGIN:VEVENT
DTSTART:20150408T130000Z
DTEND:20150408T150000Z
X-MICROSOFT-CDO-ALLDAYEVENT:FALSE
SUMMARY:Show Me The Money: Marketing Science
DESCRIPTION:Marketing has 2 roles:  Communication and Education\n\nWith that in mind\, you will approach your marketing in a while new way - by operating with an established\, consistent formula that will lead to massive profits.\n\n \n\nWalk away understanding:\n\n- Marketing to a target market\n\n- ROI of marketing\n\n- Measuring tools for marketing\n\n- How to create the marketing plan\n\n \n\nYou have your business foundation - now build on it!\n\nNOW is the time to say YES to your business!\n\n\n\nRegister today here!
X-ALT-DESC;FMTTYPE=text/html:<div style="text-align: center\;"><span style="font-size:18px"><span style="color:#000000"><strong>Marketing has 2 roles: &nbsp\;Communication and Education<br />\n<span style="font-size:14px">With that in mind\, you will approach your marketing in a while new way - by operating with an established\, consistent formula that will lead to massive profits.</span></strong></span></span><br />\n&nbsp\;</div>\n\n<div style="text-align: center\;"><span style="font-size:18px"><span style="color:#000000"><strong><span style="font-size:14px">Walk away understanding:</span></strong></span></span></div>\n\n<div style="text-align: center\;"><span style="color:#000000"><strong>- Marketing to a target market</strong></span></div>\n\n<div style="text-align: center\;"><span style="color:#000000"><strong>- ROI of marketing</strong></span></div>\n\n<div style="text-align: center\;"><span style="color:#000000"><strong>- Measuring tools for marketing</strong></span></div>\n\n<div style="text-align: center\;"><span style="color:#000000"><strong>- How to create the marketing plan</strong></span><br />\n&nbsp\;</div>\n\n<div style="text-align: center\;"><span style="color:#000000">You have your business foundation - now build on it!<br />\n<span style="font-size:16px"><strong><em>NOW </em>is the time to say <em>YES</em> to your business!</strong></span></span><br />\n<br />\n<a href="http://businesscoachmn.com/event/show-me-the-money-marketing-science-3/"><span style="color:#FF0000"><strong><span style="font-size:18px">Register today here!</span></strong></span></a></div>\n
LOCATION:11149 Zealand Ave N Champlin\, MN 55316
UID:e.380.157266
SEQUENCE:3
DTSTAMP:20260423T112518Z
URL:http://members.metronorthchamber.org/events/details/show-me-the-money-marketing-science-04-08-2015-157266
END:VEVENT

END:VCALENDAR
