BEGIN:VCALENDAR
VERSION:2.0
PRODID:-//ChamberMaster//Event Calendar 2.0//EN
METHOD:PUBLISH
X-PUBLISHED-TTL:P3D
REFRESH-INTERVAL:P3D
CALSCALE:GREGORIAN
BEGIN:VEVENT
DTSTART:20180614T123000Z
DTEND:20180614T141500Z
X-MICROSOFT-CDO-ALLDAYEVENT:FALSE
SUMMARY:Session Wrap Up 2018
DESCRIPTION:Our annual Session Wrap Up event features Representatives Melissa Hortman and Kurt Daudt leading conversation on what happened/didn't happen at the Capitol relative to the business community. Tom Hauser\, KSTP\, will moderate.
X-ALT-DESC;FMTTYPE=text/html:Our annual Session Wrap Up event features Representatives Melissa Hortman and Kurt Daudt leading conversation on what happened/didn&#39\;t happen at the Capitol relative to the business community. Tom Hauser\, KSTP\, will moderate. &nbsp\;
LOCATION:SBM Fire Station 3 11920 Ulysses Street NE Blaine 55434
UID:e.380.185341
SEQUENCE:3
DTSTAMP:20260420T195157Z
URL:http://members.metronorthchamber.org/events/details/session-wrap-up-2018-185341
END:VEVENT

END:VCALENDAR
