BEGIN:VCALENDAR
VERSION:2.0
PRODID:-//ChamberMaster//Event Calendar 2.0//EN
METHOD:PUBLISH
X-PUBLISHED-TTL:P3D
REFRESH-INTERVAL:P3D
CALSCALE:GREGORIAN
BEGIN:VEVENT
DTSTART:20140603T130000Z
DTEND:20140603T141500Z
X-MICROSOFT-CDO-ALLDAYEVENT:FALSE
SUMMARY:Session Wrap Up
DESCRIPTION:Area legislators will give updates on the 2014 Legislative Session. Hear what happened and how it will affect the business community.
X-ALT-DESC;FMTTYPE=text/html:<p><span style="font-size: 12px\;"><span style="color: rgb(0\, 0\, 128)\;"><span style="font-family: tahoma\;">Area legislators will give updates on the 2014 Legislative Session. Hear what happened and how it will affect the business community. </span></span></span></p>\n
LOCATION:Rasmussen College 3629 95th Ave. NE Blaine\, MN 55014
UID:e.380.151320
SEQUENCE:3
DTSTAMP:20260424T012334Z
URL:http://members.metronorthchamber.org/events/details/session-wrap-up-06-03-2014-151320
END:VEVENT

END:VCALENDAR
