BEGIN:VCALENDAR
VERSION:2.0
PRODID:-//ChamberMaster//Event Calendar 2.0//EN
METHOD:PUBLISH
X-PUBLISHED-TTL:P3D
REFRESH-INTERVAL:P3D
CALSCALE:GREGORIAN
BEGIN:VEVENT
DTSTART:20120531T123000Z
DTEND:20120531T143000Z
X-MICROSOFT-CDO-ALLDAYEVENT:FALSE
SUMMARY:Session Wrap Up
DESCRIPTION:Area legislators will give updates on the 2012 Legislative Session. Moderated by Blois Olson of Tunheim Partners.
X-ALT-DESC;FMTTYPE=text/html:<p>\n	<span style="color: #000080"><span style="font-family: tahoma"><span style="font-size: 11px">Area legislators will give updates on the 2012 Legislative Session. Moderated by Blois Olson of Tunheim Partners.</span></span></span></p>\n
LOCATION:National Sports Center 1700 105th Ave. Blaine\, MN 55449
UID:e.380.143509
SEQUENCE:3
DTSTAMP:20260425T192115Z
URL:http://members.metronorthchamber.org/events/details/session-wrap-up-05-31-2012-143509
END:VEVENT

END:VCALENDAR
