BEGIN:VCALENDAR
VERSION:2.0
PRODID:-//ChamberMaster//Event Calendar 2.0//EN
METHOD:PUBLISH
X-PUBLISHED-TTL:P3D
REFRESH-INTERVAL:P3D
CALSCALE:GREGORIAN
BEGIN:VEVENT
DTSTART:20130530T123000Z
DTEND:20130530T140000Z
X-MICROSOFT-CDO-ALLDAYEVENT:FALSE
SUMMARY:Session Wrap Up
DESCRIPTION:Local legislators will share their thoughts on the 2013 Session. There will be a panel discussion with 10 State Senators and State Representatives on key business issues.
X-ALT-DESC;FMTTYPE=text/html:Local legislators will share their thoughts on the 2013 Session. There will be a panel discussion with 10 State Senators and State Representatives on key business issues.
LOCATION:Rasmussen College - Blaine Campus 3629 95th Ave. NE Blaine\, MN 55014
UID:e.380.148182
SEQUENCE:3
DTSTAMP:20260424T223720Z
URL:http://members.metronorthchamber.org/events/details/session-wrap-up-05-30-2013-148182
END:VEVENT

END:VCALENDAR
