BEGIN:VCALENDAR
VERSION:2.0
PRODID:-//ChamberMaster//Event Calendar 2.0//EN
METHOD:PUBLISH
X-PUBLISHED-TTL:P3D
REFRESH-INTERVAL:P3D
CALSCALE:GREGORIAN
BEGIN:VEVENT
DTSTART:20120418T200000Z
DTEND:20120419T010000Z
X-MICROSOFT-CDO-ALLDAYEVENT:FALSE
SUMMARY:Servant-Leadership and the Honoring of Excellence
DESCRIPTION:Learn how your business and community could benefit from Servant-Leadership.\n\n\n\nRasmussen College invites you to an industry-leading presentation: "Servant-Leadership and the Honoring of Excellence"\, featuring Larry Spears\, President and CEO of the Larry C. Spears Center for Servant-Leadership.\n\n\n\nClick here to download a copy of the flyer.
X-ALT-DESC;FMTTYPE=text/html:Learn how your business and community could benefit from Servant-Leadership.<br />\n<br />\nRasmussen College invites you to an industry-leading presentation: &quot\;Servant-Leadership and the Honoring of Excellence&quot\;\, featuring Larry Spears\, President and CEO of the Larry C. Spears Center for Servant-Leadership.<br />\n<br />\nClick <a href="http://cloud.chambermaster.com/userfiles/UserFiles/chambers/380/File/Rasmussen_Servant-Leadership.pdf">here</a> to download a copy of the flyer.
LOCATION:Rasmussen College\, Blaine 3629 95th Ave NE Blaine\, MN 55014
UID:e.380.143790
SEQUENCE:3
DTSTAMP:20260425T211351Z
URL:http://members.metronorthchamber.org/events/details/servant-leadership-and-the-honoring-of-excellence-04-18-2012-143790
END:VEVENT

END:VCALENDAR
