BEGIN:VCALENDAR
VERSION:2.0
PRODID:-//ChamberMaster//Event Calendar 2.0//EN
METHOD:PUBLISH
X-PUBLISHED-TTL:P3D
REFRESH-INTERVAL:P3D
CALSCALE:GREGORIAN
BEGIN:VEVENT
DTSTART;VALUE=DATE:20150901
DTEND;VALUE=DATE:20151001
TRANSP:TRANSPARENT
X-MICROSOFT-CDO-ALLDAYEVENT:TRUE
SUMMARY:September GOTM: Ruger 10/22
DESCRIPTION:September GOTM: Ruger 10/22 $269.00\n\nReview of the Ruger 10/22 by the Average Joe:\n\nRuger\, of late\, has certainly become a very prolific firearms manufacturer. New model designs with a variety of caliber choices in just about all of their catalogued lines has kept Ruger's manufacturing plants very busy and has kept the shooters scratching their heads trying to figure out which new model(s) to purchase.\n\n\nRead more: https://www.billsgs.com/
X-ALT-DESC;FMTTYPE=text/html:<p>September GOTM: Ruger 10/22 $269.00</p>\n\n<p>Review of the Ruger 10/22 by the Average Joe:</p>\n\n<p>Ruger\, of late\, has certainly become a very prolific firearms manufacturer. New model designs with a variety of caliber choices in just about all of their catalogued lines has kept Ruger&#39\;s manufacturing plants very busy and has kept the shooters scratching their heads trying to figure out which new model(s) to purchase.</p>\n\n<div>\n<p>Read more: <a href="https://www.billsgs.com/" rel="nofollow" target="_blank">https://www.billsgs.com/</a></p>\n</div>\n
LOCATION:At ALL Bill's Gun Shop & Range Locations: https://www.billsgs.com/billsgs-locations
UID:e.380.159566
SEQUENCE:3
DTSTAMP:20260423T025850Z
URL:http://members.metronorthchamber.org/events/details/september-gotm-ruger-10-22-09-01-2015-159566
END:VEVENT

END:VCALENDAR
