BEGIN:VCALENDAR
VERSION:2.0
PRODID:-//ChamberMaster//Event Calendar 2.0//EN
METHOD:PUBLISH
X-PUBLISHED-TTL:P3D
REFRESH-INTERVAL:P3D
CALSCALE:GREGORIAN
BEGIN:VEVENT
DTSTART:20160713T170000Z
DTEND:20160713T183000Z
X-MICROSOFT-CDO-ALLDAYEVENT:FALSE
SUMMARY:SEO Class
DESCRIPTION:If you think SEO is  confusing and would like to learn how to improve your website rankings\,  please join us for a complimentary\, information-packed workshop on Wednesday\, July 13 at 12:00 pm.  \n\n \n\nThis workshop is designed for beginners to understand how SEO works and some of the basics.   We will share helpful tips\, practical guidance and a few important considerations for successful SEO.  \n\n \n\nYou will learn:\n\n \n\nOptimize Website\n\nOverview of What is SEO\n\nReviewing a few key level website design best practices\n\n \n\nLinks\, The Good and Bad\n\nKnow the difference between link scheming and safe link-building\n\n \n\nKeywords\n\nHow to select high quality keywords\n\n \n\nContent\n\nWriting for the web\n\n \n\nVetting SEO Experts\n\nTips on how to spot shady characters\n\n \n\nAll you need to do is RSVP to  service@pcbitsweb.com  by Monday July 11. \n\n \n\nClass begins promptly at noon.  Come early to get some snacks and a good seat!\n\n \n\nHope to see you there!\n\n \n\nDean Hancy   PC Bits\n\nBeth Whelan   Oxygen Consulting\, Inc.\n\nAngie Glotzbach   AngCo
X-ALT-DESC;FMTTYPE=text/html:<span style="font-family:calibri\,sans-serif\;"><span style="font-size:11.0pt\;">If you think SEO is&nbsp\; confusing and would like to learn how to improve your website rankings\,&nbsp\; please join us for a complimentary\, information-packed workshop on Wednesday\, July 13 at 12:00 pm.&nbsp\; </span></span><br />\n&nbsp\;<br />\n<span style="font-family:calibri\,sans-serif\;"><span style="font-size:11.0pt\;">This workshop is designed for beginners to understand how SEO works and some of the basics.&nbsp\;&nbsp\; We will share <span style="letter-spacing:.2pt\;background:#FAFAFA\;">helpful tips\, practical guidance and a few important considerations </span>for successful SEO.&nbsp\; </span></span><br />\n&nbsp\;<br />\n<span style="font-family:calibri\,sans-serif\;"><span style="font-size:11.0pt\;">You will learn:</span></span><br />\n&nbsp\;<br />\n<strong><span style="font-family:calibri\,sans-serif\;"><span style="font-size:11.0pt\;">Optimize Website</span></span></strong><br />\n<span style="font-family:calibri\,sans-serif\;"><span style="font-size:11.0pt\;">Overview of <em>What is SEO</em></span></span><br />\n<span style="font-family:calibri\,sans-serif\;"><span style="font-size:11.0pt\;">Reviewing a few key level website design best practices</span></span><br />\n&nbsp\;<br />\n<strong><span style="font-family:calibri\,sans-serif\;"><span style="font-size:11.0pt\;">Links\, The Good and Bad</span></span></strong><br />\n<span style="font-family:calibri\,sans-serif\;"><span style="font-size:11.0pt\;">Know the difference between link scheming and safe link-building</span></span><br />\n&nbsp\;<br />\n<strong><span style="background:white\;"><span style="font-family:calibri\,sans-serif\;"><span style="font-size:11.0pt\;">Keywords</span></span></span></strong><br />\n<span style="font-family:calibri\,sans-serif\;"><span style="font-size:11.0pt\;">How to select high quality keywords</span></span><br />\n&nbsp\;<br />\n<strong><span style="background:white\;"><span style="font-family:calibri\,sans-serif\;"><span style="font-size:11.0pt\;">Content</span></span></span></strong><br />\n<span style="background:white\;"><span style="font-family:calibri\,sans-serif\;"><span style="font-size:11.0pt\;">Writing for the web</span></span></span><br />\n&nbsp\;<br />\n<strong><span style="background:white\;"><span style="font-family:calibri\,sans-serif\;"><span style="font-size:11.0pt\;">Vetting SEO Experts</span></span></span></strong><br />\n<span style="background:white\;"><span style="font-family:calibri\,sans-serif\;"><span style="font-size:11.0pt\;">Tips on how to spot shady characters</span></span></span><br />\n&nbsp\;<br />\n<span style="font-family:calibri\,sans-serif\;"><span style="font-size:11.0pt\;">All you need to do is RSVP to &nbsp\;<a href="mailto:service@pcbitsweb.com">service@pcbitsweb.com</a> &nbsp\;by Monday July 11. </span></span><br />\n&nbsp\;<br />\n<span style="font-family:calibri\,sans-serif\;"><span style="font-size:11.0pt\;">Class begins promptly at noon.&nbsp\; Come early to get some snacks and a good seat!</span></span><br />\n&nbsp\;<br />\n<span style="font-family:calibri\,sans-serif\;"><span style="font-size:11.0pt\;">Hope to see you there!</span></span><br />\n&nbsp\;<br />\n<span style="font-family:calibri\,sans-serif\;"><span style="font-size:11.0pt\;">Dean Hancy &ndash\; PC Bits</span></span><br />\n<span style="font-family:calibri\,sans-serif\;"><span style="font-size:11.0pt\;">Beth Whelan &ndash\; Oxygen Consulting\, Inc.</span></span><br />\n<span style="font-family:calibri\,sans-serif\;"><span style="font-size:11.0pt\;">Angie Glotzbach &ndash\; AngCo&nbsp\;</span></span>
LOCATION:MetroNorth Chamber of Commerce 21st Century Bank 9380 Central Avenue NE\, Suite 320 Blaine\, MN 55434
UID:e.380.168433
SEQUENCE:3
DTSTAMP:20260422T083618Z
URL:http://members.metronorthchamber.org/events/details/seo-class-07-13-2016-168433
END:VEVENT

END:VCALENDAR
