BEGIN:VCALENDAR
VERSION:2.0
PRODID:-//ChamberMaster//Event Calendar 2.0//EN
METHOD:PUBLISH
X-PUBLISHED-TTL:P3D
REFRESH-INTERVAL:P3D
CALSCALE:GREGORIAN
BEGIN:VEVENT
DTSTART:20120515T144500Z
DTEND:20120515T160000Z
X-MICROSOFT-CDO-ALLDAYEVENT:FALSE
SUMMARY:Send Out Cards Training
DESCRIPTION:Join Send Out Cards for a FREE training session Tuesday\, May 15th!\n\n\n\n\n	9:45-10:00 registration and refreshments.\n\n	10:00-11:00 training on how to send a card\, create a photo album\, etc.
X-ALT-DESC;FMTTYPE=text/html:<span style="font-size:11px\;"><span style="font-family: tahoma\;">Join Send Out Cards for a FREE training session Tuesday\, May 15th!</span></span><br />\n<br />\n<div>\n	<span style="font-size:11px\;"><span style="font-family: tahoma\;">9:45-10:00 registration and refreshments.</span></span></div>\n<div>\n	<span style="font-size:11px\;"><span style="font-family: tahoma\;">10:00-11:00 training on how to send a card\, create a photo album\, etc.</span></span></div>\n<br />\n
LOCATION:MetroNorth Chamber Office 9380 Central Ave S\, ste 320 Blaine\, MN 55434
UID:e.380.144076
SEQUENCE:3
DTSTAMP:20260425T192115Z
URL:http://members.metronorthchamber.org/events/details/send-out-cards-training-05-15-2012-144076
END:VEVENT

END:VCALENDAR
