BEGIN:VCALENDAR
VERSION:2.0
PRODID:-//ChamberMaster//Event Calendar 2.0//EN
METHOD:PUBLISH
X-PUBLISHED-TTL:P3D
REFRESH-INTERVAL:P3D
CALSCALE:GREGORIAN
BEGIN:VEVENT
DTSTART:20150626T200000Z
DTEND:20150627T003000Z
X-MICROSOFT-CDO-ALLDAYEVENT:FALSE
SUMMARY:Second Annual Nine Hole Golf Event
DESCRIPTION:2nd Annual \n\n"All for Fun" \n\nGolf Event\n\nFriday June 26\, 2015\n\n3:00 to 7:30pm\n\nat Greenhaven Golf Course\n\nGolf\, Silent Auction\, Dinner\, Cigar Bar\n\nEntertainment by Charlie Lucas Live
X-ALT-DESC;FMTTYPE=text/html:<div style="text-align: center\;"><span style="font-family: arial\,helvetica\,sans-serif\;"><span style="font-size: 18pt\;">2nd Annual </span><br />\n<span style="font-size: 18pt\;">&ldquo\;All for Fun&rdquo\; </span><br />\n<span style="font-size: 18pt\;">Golf Event</span><br />\n<span style="font-size: 18pt\;">Friday June 26\, 2015</span><br />\n<span style="font-size: 18pt\;">3:00 to 7:30pm<br />\nat Greenhaven Golf Course</span><br />\n<span style="font-size: 11pt\;">Golf\, Silent Auction\, Dinner\, Cigar Bar</span><br />\n<span style="font-size: 11pt\;">Entertainment by Charlie Lucas Live</span></span></div>\n&nbsp\;<br />\n&nbsp\;
LOCATION:Greenhaven Golf Course 2800 Greenhaven Road Anoka\, MN 55303
UID:e.380.157304
SEQUENCE:3
DTSTAMP:20260423T083444Z
URL:http://members.metronorthchamber.org/events/details/second-annual-nine-hole-golf-event-06-26-2015-157304
END:VEVENT

END:VCALENDAR
