BEGIN:VCALENDAR
VERSION:2.0
PRODID:-//ChamberMaster//Event Calendar 2.0//EN
METHOD:PUBLISH
X-PUBLISHED-TTL:P3D
REFRESH-INTERVAL:P3D
CALSCALE:GREGORIAN
BEGIN:VEVENT
DTSTART:20141118T180000Z
DTEND:20141118T183000Z
X-MICROSOFT-CDO-ALLDAYEVENT:FALSE
SUMMARY:Schaaf Floral Ribbon Cutting
DESCRIPTION:Celebrate this fantastic MetroNorth Chamber member with a ribbon cutting!
X-ALT-DESC;FMTTYPE=text/html:Celebrate this&nbsp\;fantastic&nbsp\;MetroNorth Chamber member with a ribbon cutting!
LOCATION:6554 University Avenue NE Fridley\, MN 55432 (763) 571-4600 (800) 724-2237
UID:e.380.151665
SEQUENCE:3
DTSTAMP:20260423T174152Z
URL:http://members.metronorthchamber.org/events/details/schaaf-floral-ribbon-cutting-11-18-2014-151665
END:VEVENT

END:VCALENDAR
