BEGIN:VCALENDAR
VERSION:2.0
PRODID:-//ChamberMaster//Event Calendar 2.0//EN
METHOD:PUBLISH
X-PUBLISHED-TTL:P3D
REFRESH-INTERVAL:P3D
CALSCALE:GREGORIAN
BEGIN:VEVENT
DTSTART:20111119T200000Z
DTEND:20111120T220000Z
X-MICROSOFT-CDO-ALLDAYEVENT:FALSE
SUMMARY:Scentsy Holiday Open House
DESCRIPTION:Do you have someone on your Christmas list that has everything or is hard to buy for? Come to my Scentsy Holiday Open House and see how Scentsy can assist you in your gift buying for the women and MEN on your list.\n\n\n\nWhen: Saturday and Sunday\n\nNovember 19 & 20\n\n2-4 pm\n\n\n\nWhere: 1508 41st Ave NE\, Columbia Heights 55421\n\nLook for the Scentsy Open House signs\n\n\n\nDon't Miss: Door Prizes\, Open House Special on every order\, Party Booking Bonus and the chance to complete your Christmas shopping.\n\n\n\nNot only does Scentsy make great gifts\, it also makes perfect Scents!
X-ALT-DESC;FMTTYPE=text/html:Do you have someone on your Christmas list that has everything or is hard to buy for? Come to my Scentsy Holiday Open House and see how Scentsy can assist you in your gift buying for the women and MEN on your list.<br />\n<br />\n<span style="color:#b22222\;">When:</span> Saturday and Sunday<br />\nNovember 19 &amp\; 20<br />\n2-4 pm<br />\n<br />\n<span style="color:#b22222\;">Where: </span>1508 41st Ave NE\, Columbia Heights 55421<br />\nLook for the Scentsy Open House signs<br />\n<br />\n<span style="color:#b22222\;">Don&rsquo\;t Miss: </span>Door Prizes\, Open House Special on every order\, Party Booking Bonus and the chance to complete your Christmas shopping.<br />\n<br />\nNot only does <span style="color:#b22222\;">Scentsy</span> make great <span style="color:#b22222\;">gifts</span>\, it also makes perfect <span style="color:#b22222\;">Scents</span>!
LOCATION:1508 41st Ave NE\, Columbia Heights\, MN 55421 LOOK FOR THE OPEN HOUSE SIGNS
UID:e.380.142857
SEQUENCE:3
DTSTAMP:20260426T033242Z
URL:http://members.metronorthchamber.org/events/details/scentsy-holiday-open-house-11-19-2011-142857
END:VEVENT

END:VCALENDAR
