BEGIN:VCALENDAR
VERSION:2.0
PRODID:-//ChamberMaster//Event Calendar 2.0//EN
METHOD:PUBLISH
X-PUBLISHED-TTL:P3D
REFRESH-INTERVAL:P3D
CALSCALE:GREGORIAN
BEGIN:VEVENT
DTSTART;VALUE=DATE:20190914
DTEND;VALUE=DATE:20190915
TRANSP:TRANSPARENT
X-MICROSOFT-CDO-ALLDAYEVENT:TRUE
SUMMARY:SBM Fire Department 75th Anniversary Celebration
DESCRIPTION:The Spring Lake Park\, Blaine\, Mounds View Fire Department (SBM) was founded as a non-profit corporation in 1944 out of the Spring Lake Park township.  Help us celebrate 75 years of outstanding service and tradition in our three communities.  Bring the entire family to enjoy a great day of food\, history\, demonstrations\, music\, auctions\, and professional fireworks!  Admission and parking is free for the day. Some activities require purchase.
X-ALT-DESC;FMTTYPE=text/html:The Spring Lake Park\, Blaine\, Mounds View Fire Department (SBM) was founded as a non-profit corporation in 1944 out of the Spring Lake Park township.&nbsp\; Help us celebrate 75 years of outstanding service and tradition in our three communities.&nbsp\; Bring the entire family to enjoy a great day of food\, history\, demonstrations\, music\, auctions\, and professional fireworks!&nbsp\; Admission and parking is free for the day. Some activities require purchase.
LOCATION:Blaine National Sports Center 1700 105th Ave NE\, Blaine\, MN 55449
UID:e.380.190987
SEQUENCE:3
DTSTAMP:20260419T193100Z
URL:http://members.metronorthchamber.org/events/details/sbm-fire-department-75th-anniversary-celebration-190987
END:VEVENT

END:VCALENDAR
