BEGIN:VCALENDAR
VERSION:2.0
PRODID:-//ChamberMaster//Event Calendar 2.0//EN
METHOD:PUBLISH
X-PUBLISHED-TTL:P3D
REFRESH-INTERVAL:P3D
CALSCALE:GREGORIAN
BEGIN:VEVENT
DTSTART;VALUE=DATE:20170710
DTEND;VALUE=DATE:20170711
TRANSP:TRANSPARENT
X-MICROSOFT-CDO-ALLDAYEVENT:TRUE
SUMMARY:Savers 25% OFF the ENTIRE Store!!!
DESCRIPTION:25% off the entire store!!! Bring your friends and family!!
X-ALT-DESC;FMTTYPE=text/html:25% off the entire store!!! Bring your friends and family!!
LOCATION:Savers 50 Coon Rapids Boulevard Coon Rapids 55448
UID:e.380.176297
SEQUENCE:3
DTSTAMP:20260421T135419Z
URL:http://members.metronorthchamber.org/events/details/savers-25-off-the-entire-store-176297
END:VEVENT

END:VCALENDAR
