BEGIN:VCALENDAR
VERSION:2.0
PRODID:-//ChamberMaster//Event Calendar 2.0//EN
METHOD:PUBLISH
X-PUBLISHED-TTL:P3D
REFRESH-INTERVAL:P3D
CALSCALE:GREGORIAN
BEGIN:VEVENT
DTSTART:20150923T154500Z
DTEND:20150923T160000Z
X-MICROSOFT-CDO-ALLDAYEVENT:FALSE
SUMMARY:Sarah Cook Wildtree RC
DESCRIPTION:Help us celebrate the Ribbon Cutting of Sarah Cook WildTree. The ribbon cutting will take place immediately after the Working With Women meeting on Wednesday\, September 23.
X-ALT-DESC;FMTTYPE=text/html:Help us celebrate the Ribbon Cutting of Sarah Cook WildTree. The ribbon cutting will take place immediately after the Working With Women meeting on Wednesday\, September 23.
LOCATION:Rasmussen College\, Blaine Campus 3629 95th Ave NE Blaine\, MN 55014
UID:e.380.159590
SEQUENCE:3
DTSTAMP:20260423T025850Z
URL:http://members.metronorthchamber.org/events/details/sarah-cook-wildtree-rc-09-23-2015-159590
END:VEVENT

END:VCALENDAR
